BEGIN:VCALENDAR
VERSION:2.0
PRODID:-//Muskegon Axe Throwing LLC. - ECPv6.15.20//NONSGML v1.0//EN
CALSCALE:GREGORIAN
METHOD:PUBLISH
X-ORIGINAL-URL:https://muskegonaxethrowing.com
X-WR-CALDESC:Events for Muskegon Axe Throwing LLC.
REFRESH-INTERVAL;VALUE=DURATION:PT1H
X-Robots-Tag:noindex
X-PUBLISHED-TTL:PT1H
BEGIN:VTIMEZONE
TZID:America/New_York
BEGIN:DAYLIGHT
TZOFFSETFROM:-0500
TZOFFSETTO:-0400
TZNAME:EDT
DTSTART:20230312T070000
END:DAYLIGHT
BEGIN:STANDARD
TZOFFSETFROM:-0400
TZOFFSETTO:-0500
TZNAME:EST
DTSTART:20231105T060000
END:STANDARD
BEGIN:DAYLIGHT
TZOFFSETFROM:-0500
TZOFFSETTO:-0400
TZNAME:EDT
DTSTART:20240310T070000
END:DAYLIGHT
BEGIN:STANDARD
TZOFFSETFROM:-0400
TZOFFSETTO:-0500
TZNAME:EST
DTSTART:20241103T060000
END:STANDARD
BEGIN:DAYLIGHT
TZOFFSETFROM:-0500
TZOFFSETTO:-0400
TZNAME:EDT
DTSTART:20250309T070000
END:DAYLIGHT
BEGIN:STANDARD
TZOFFSETFROM:-0400
TZOFFSETTO:-0500
TZNAME:EST
DTSTART:20251102T060000
END:STANDARD
END:VTIMEZONE
BEGIN:VTIMEZONE
TZID:America/Halifax
BEGIN:DAYLIGHT
TZOFFSETFROM:-0400
TZOFFSETTO:-0300
TZNAME:ADT
DTSTART:20230312T060000
END:DAYLIGHT
BEGIN:STANDARD
TZOFFSETFROM:-0300
TZOFFSETTO:-0400
TZNAME:AST
DTSTART:20231105T050000
END:STANDARD
BEGIN:DAYLIGHT
TZOFFSETFROM:-0400
TZOFFSETTO:-0300
TZNAME:ADT
DTSTART:20240310T060000
END:DAYLIGHT
BEGIN:STANDARD
TZOFFSETFROM:-0300
TZOFFSETTO:-0400
TZNAME:AST
DTSTART:20241103T050000
END:STANDARD
BEGIN:DAYLIGHT
TZOFFSETFROM:-0400
TZOFFSETTO:-0300
TZNAME:ADT
DTSTART:20250309T060000
END:DAYLIGHT
BEGIN:STANDARD
TZOFFSETFROM:-0300
TZOFFSETTO:-0400
TZNAME:AST
DTSTART:20251102T050000
END:STANDARD
END:VTIMEZONE
BEGIN:VEVENT
DTSTART;TZID=America/New_York:20240828T170000
DTEND;TZID=America/New_York:20240828T210000
DTSTAMP:20260421T170612
CREATED:20240619T202001Z
LAST-MODIFIED:20240723T171454Z
UID:10000063-1724864400-1724878800@muskegonaxethrowing.com
SUMMARY:Summer Leagues 2024
DESCRIPTION:
URL:https://muskegonaxethrowing.com/eventcalendar/summer-leagues-begin/2024-08-28/
LOCATION:Muskegon Axe Throwing\, 351 W. Western Ave\, Muskegon\, MI\, 49440\, United States
ORGANIZER;CN="Muskegon Axe Throwing":MAILTO:mlewis@muskegonaxethrowing.com
END:VEVENT
BEGIN:VEVENT
DTSTART;TZID=America/New_York:20240824T150000
DTEND;TZID=America/New_York:20240824T190000
DTSTAMP:20260421T170612
CREATED:20240723T164645Z
LAST-MODIFIED:20240723T164645Z
UID:10000035-1724511600-1724526000@muskegonaxethrowing.com
SUMMARY:Burning Foot Beer Festival
DESCRIPTION:
URL:https://muskegonaxethrowing.com/eventcalendar/burning-foot-beer-festival/
LOCATION:Pere Marquette Park\, 3510 Channel Dr\, Muskegon\, MI\, 49441\, United States
END:VEVENT
BEGIN:VEVENT
DTSTART;TZID=America/New_York:20240811T110000
DTEND;TZID=America/New_York:20240811T190000
DTSTAMP:20260421T170612
CREATED:20240723T171022Z
LAST-MODIFIED:20240723T171022Z
UID:10000039-1723374000-1723402800@muskegonaxethrowing.com
SUMMARY:Marathon League - Muskegon Axe Throwing
DESCRIPTION:
URL:https://muskegonaxethrowing.com/eventcalendar/marathon-league-muskegon-axe-throwing/
LOCATION:Muskegon Axe Throwing\, 351 W. Western Ave\, Muskegon\, MI\, 49440\, United States
ORGANIZER;CN="Muskegon Axe Throwing":MAILTO:mlewis@muskegonaxethrowing.com
END:VEVENT
BEGIN:VEVENT
DTSTART;TZID=America/New_York:20240728T100000
DTEND;TZID=America/New_York:20240728T140000
DTSTAMP:20260421T170612
CREATED:20240723T163216Z
LAST-MODIFIED:20240723T163216Z
UID:10000034-1722160800-1722175200@muskegonaxethrowing.com
SUMMARY:Muskegon Motorcycle Club - Pro HillClimb 2024
DESCRIPTION:
URL:https://muskegonaxethrowing.com/eventcalendar/muskegon-motorcycle-club-pro-hillclimb-2024/2024-07-28/
LOCATION:MT Garfield\, 5803 Lake Harbor Rd\, Muskegon\, MI\, 49441\, United States
ORGANIZER;CN="Muskegon Motorcycle Club":MAILTO:muskegonmc1920@gmail.com
END:VEVENT
BEGIN:VEVENT
DTSTART;TZID=America/New_York:20240608T110000
DTEND;TZID=America/New_York:20240608T210000
DTSTAMP:20260421T170612
CREATED:20240311T035830Z
LAST-MODIFIED:20240311T035830Z
UID:10000004-1717844400-1717880400@muskegonaxethrowing.com
SUMMARY:Taste of Muskegon
DESCRIPTION:
URL:https://muskegonaxethrowing.com/eventcalendar/taste-of-muskegon/2024-06-08/
LOCATION:Hackley Park\, Hackley Ave\, Muskegon\, 49440\, United States
END:VEVENT
BEGIN:VEVENT
DTSTART;TZID=America/Halifax:20240409T170000
DTEND;TZID=America/Halifax:20240409T220000
DTSTAMP:20260421T170612
CREATED:20240311T182041Z
LAST-MODIFIED:20240311T182041Z
UID:10000006-1712682000-1712700000@muskegonaxethrowing.com
SUMMARY:Spring League Begins
DESCRIPTION:
URL:https://muskegonaxethrowing.com/eventcalendar/spring-league-begins/
LOCATION:Muskegon Axe Throwing\, 351 W. Western Ave\, Muskegon\, MI\, 49440\, United States
END:VEVENT
BEGIN:VEVENT
DTSTART;TZID=America/Halifax:20240406T180000
DTEND;TZID=America/Halifax:20240406T210000
DTSTAMP:20260421T170612
CREATED:20240311T025911Z
LAST-MODIFIED:20240311T025911Z
UID:10000002-1712426400-1712437200@muskegonaxethrowing.com
SUMMARY:Bourbon & Bullseyes
DESCRIPTION:
URL:https://muskegonaxethrowing.com/eventcalendar/bourbon-bullseyes/2024-04-06/
LOCATION:Wonderland Distillery\, 1989 Lakeshore Dr Suite B\, Muskegon\, MI\, 49441\, United States
END:VEVENT
BEGIN:VEVENT
DTSTART;TZID=America/Halifax:20240317T130000
DTEND;TZID=America/Halifax:20240317T180000
DTSTAMP:20260421T170612
CREATED:20240311T171857Z
LAST-MODIFIED:20240311T171857Z
UID:10000005-1710680400-1710698400@muskegonaxethrowing.com
SUMMARY:Winter League Tournament & Feast
DESCRIPTION:Practice Begins at 1pm\nMatches Begins at 2pm\nFeast at 4pm
URL:https://muskegonaxethrowing.com/eventcalendar/winter-league-tournament-feast/
LOCATION:Muskegon Axe Throwing\, 351 W. Western Ave\, Muskegon\, MI\, 49440\, United States
END:VEVENT
END:VCALENDAR