BEGIN:VCALENDAR
VERSION:2.0
PRODID:-//Muskegon Axe Throwing LLC. - ECPv6.15.20//NONSGML v1.0//EN
CALSCALE:GREGORIAN
METHOD:PUBLISH
X-ORIGINAL-URL:https://muskegonaxethrowing.com
X-WR-CALDESC:Events for Muskegon Axe Throwing LLC.
REFRESH-INTERVAL;VALUE=DURATION:PT1H
X-Robots-Tag:noindex
X-PUBLISHED-TTL:PT1H
BEGIN:VTIMEZONE
TZID:America/New_York
BEGIN:DAYLIGHT
TZOFFSETFROM:-0500
TZOFFSETTO:-0400
TZNAME:EDT
DTSTART:20240310T070000
END:DAYLIGHT
BEGIN:STANDARD
TZOFFSETFROM:-0400
TZOFFSETTO:-0500
TZNAME:EST
DTSTART:20241103T060000
END:STANDARD
BEGIN:DAYLIGHT
TZOFFSETFROM:-0500
TZOFFSETTO:-0400
TZNAME:EDT
DTSTART:20250309T070000
END:DAYLIGHT
BEGIN:STANDARD
TZOFFSETFROM:-0400
TZOFFSETTO:-0500
TZNAME:EST
DTSTART:20251102T060000
END:STANDARD
BEGIN:DAYLIGHT
TZOFFSETFROM:-0500
TZOFFSETTO:-0400
TZNAME:EDT
DTSTART:20260308T070000
END:DAYLIGHT
BEGIN:STANDARD
TZOFFSETFROM:-0400
TZOFFSETTO:-0500
TZNAME:EST
DTSTART:20261101T060000
END:STANDARD
BEGIN:DAYLIGHT
TZOFFSETFROM:-0500
TZOFFSETTO:-0400
TZNAME:EDT
DTSTART:20270314T070000
END:DAYLIGHT
BEGIN:STANDARD
TZOFFSETFROM:-0400
TZOFFSETTO:-0500
TZNAME:EST
DTSTART:20271107T060000
END:STANDARD
END:VTIMEZONE
BEGIN:VEVENT
DTSTART;TZID=America/New_York:20251121T170000
DTEND;TZID=America/New_York:20251121T230000
DTSTAMP:20260421T084245
CREATED:20251104T190711Z
LAST-MODIFIED:20251104T190711Z
UID:10000594-1763744400-1763766000@muskegonaxethrowing.com
SUMMARY:WATL Marathon League – Big Axe & Duals
DESCRIPTION:Ready to earn WATL Circuit Points and complete a full league season in one night?Our Marathon League is open to all throwers and features Big Axe and Duals disciplines. Whether you’re a league veteran or just getting started\, this is a great chance to compete\, rank\, and have a blast. \nIncludes: \n\n\nWATL official scoring and tracking \n\n\n28 matches across both disciplines \n\n\nRegional competition \n\n\nFood and drink available for purchase \n\n\nLimited spots available. Register early to secure your lane! \n👉 Register Now
URL:https://muskegonaxethrowing.com/eventcalendar/marathon/
LOCATION:Muskegon Axe Throwing\, 351 W. Western Ave\, Muskegon\, MI\, 49440\, United States
ORGANIZER;CN="Muskegon Axe Throwing":MAILTO:mlewis@muskegonaxethrowing.com
END:VEVENT
BEGIN:VEVENT
DTSTART;TZID=America/New_York:20260220T180000
DTEND;TZID=America/New_York:20260220T210000
DTSTAMP:20260421T084245
CREATED:20260217T184202Z
LAST-MODIFIED:20260217T185159Z
UID:10000597-1771610400-1771621200@muskegonaxethrowing.com
SUMMARY:Jacks Fight Cancer Charity Night + #ThrowItForward Fundraiser
DESCRIPTION:We are honored to partner with the Muskegon Lumberjacks for their Jacks Fight Cancer charity event — a powerful night dedicated to supporting families\, survivors\, fighters\, and those we’ve lost. \nThis event supports the incredible work of ManUpToCancer\, an organization focused on helping men and their families face cancer with strength\, community\, and support. \n\n❤️ Why This Event Matters\nCancer has touched so many families in our community. We are proud to stand alongside the Lumberjacks\, ManUpToCancer\, and our community to help raise as much support as possible. \n\n🪓 #ThrowItForward Fundraiser — Hockey Game Activation\nDuring the Jacks Fight Cancer game\, we will be hosting a #ThrowItForward fundraiser. \n💯 100% of donations collected during the hockey game event will go toward supporting the cause. \nThrow. Give. Support families fighting cancer. \n\n🪓 Special Group Throw — ManUpToCancer at the Axe Pit\nWe are honored to host members of ManUpToCancer at Muskegon Axe Throwing while they are in town — giving them time to connect\, throw together\, and experience our community firsthand. \n\n🤝 How You Can Help\n• Donate during the hockey game event• Share the event and spread awareness• Support ManUpToCancer’s mission• Show up and support the Lumberjacks \nTogether\, we can make a real impact. \n\n❤️ Personal Note\nIn honor of my step-father\, Paul Cook — who fought blood cancer with incredible strength and inspired everyone around him. He will be missed by many. Thank you for helping us Throw It Forward and supporting others in the fight.
URL:https://muskegonaxethrowing.com/eventcalendar/jacks-fight-cancer-charity-night-throwitforward-fundraiser/
LOCATION:Trinity Health Arena\, 470 W. Western Ave\, Muskegon\, MI 49440\, Muskegon\, MI\, 49440\, United States
ORGANIZER;CN="Muskegon Lumberjacks Hockey":MAILTO:lachlan@muskegonlumberjacks.com
END:VEVENT
BEGIN:VEVENT
DTSTART;VALUE=DATE:20260221
DTEND;VALUE=DATE:20260222
DTSTAMP:20260421T084245
CREATED:20260217T182500Z
LAST-MODIFIED:20260217T182500Z
UID:10000596-1771632000-1771718399@muskegonaxethrowing.com
SUMMARY:JCI Snowfest 2026 – 40 Years of Winter Fun + Outdoor Axe Throwing Downtown!
DESCRIPTION:Snowfest is Muskegon’s only full-scale winter festival — and in 2026\, it’s celebrating 40 incredible years of community\, tradition\, and winter adventure! \nHosted by JCI Greater Muskegon\, Snowfest brings downtown to life during the winter season with signature events like: \n• Battle of the Bowls – Soup & Chili Cook-Off• Community Cornhole Tournament• Volleyball Tournament• New surprise events added every year \nSnowfest is more than a festival — it’s the largest annual fundraiser for JCI Greater Muskegon and a huge boost for downtown small businesses during the winter months. \n\n🪓 Returning for Our 5th Year at Snowfest — Outdoor Axe Throwing Downtown\nWe are excited to once again bring axe throwing outside to the heart of downtown Muskegon. This will be our fifth year participating in Snowfest\, and we’re honored to be part of such an incredible community tradition. \n✅ Outdoor Throwing Lanes✅ Free to Participate✅ All Skill Levels Welcome \nAge Guidelines:⭐ Ninja Stars: Ages 6+🪓 Axes & Knives: Ages 10+ \n\n❤️ #ThrowItForward Fundraiser\nWhile throwing is FREE\, we will be proudly accepting donations for JCI Greater Muskegon as part of our #ThrowItForward fundraising effort. \nThrow axes. Support local leadership. Give back to the community. \n\n🔥 Keep the Fun Going Indoors at Muskegon Axe Throwing\nWarm up after throwing outside and experience: \n• Indoor Axe Throwing Lanes• WATL-Style Competitive Throwing• Knife & Ninja Star Throwing• Family-Friendly Winter Activity• Snacks + Drinks + Hangout Space \n\n❤️ Why It Matters\nSnowfest helps support community programming\, local leadership development\, and keeps downtown Muskegon vibrant year-round. We’re proud to continue supporting Snowfest and celebrating 40 Years of Winter Community Tradition. \n👉 Visit Our Outdoor Lanes During Snowfest👉 Donate + Throw It Forward👉 Book Indoor Throwing Online
URL:https://muskegonaxethrowing.com/eventcalendar/jci-snowfest-2026-40-years-of-winter-fun-outdoor-axe-throwing-downtown/
LOCATION:Downtown Muskegon\, West Western Ave\, Muskegon\, MI\, 49440\, United States
ORGANIZER;CN="JCI Greater Muskegon":MAILTO:info@jcimuskegon.org
END:VEVENT
BEGIN:VEVENT
DTSTART;TZID=America/New_York:20260228T110000
DTEND;TZID=America/New_York:20260228T170000
DTSTAMP:20260421T084245
CREATED:20260213T000047Z
LAST-MODIFIED:20260213T000047Z
UID:10000595-1772276400-1772298000@muskegonaxethrowing.com
SUMMARY:Big Axe & Duals Marathon — WATL Official
DESCRIPTION:Event Overview\nJoin us for a full Big Axe and Duals Marathon at Muskegon Axe Throwing. This is a WATL Official event\, meaning all scores will count toward your official WATL record. \nMarathons are a great way to: \n\n\nRapidly build official match history \n\n\nImprove consistency under fatigue \n\n\nTrain for tournaments and majors \n\n\nBuild chemistry with your duals partner \n\n\n\nDisciplines\n🪓 Big Axe🪓 Duals \n\nWho Should Attend\n\n\nActive league members \n\n\nCompetitive throwers \n\n\nTournament prep players \n\n\nNew throwers looking to gain official match experience \n\n\n\nFormat\nMarathon format play will allow throwers to complete a high volume of official matches in one session. Specific match counts and rotations will be announced before event start. \n\nRegistration\n👉 Online registration \nSpots are limited to ensure quality match flow and lane availability. \n\nWhat To Bring\n\n\nYour WATL Player ID (if you have one) \n\n\nYour throwing gear \n\n\nWater / snacks recommended (marathons are long!) \n\n\n\nQuestions?\nContact Muskegon Axe Throwing or message us on social media.
URL:https://muskegonaxethrowing.com/eventcalendar/big-axe-duals-marathon-watl-official/
LOCATION:Muskegon Axe Throwing\, 351 W. Western Ave\, Muskegon\, MI\, 49440\, United States
ORGANIZER;CN="Muskegon Axe Throwing":MAILTO:mlewis@muskegonaxethrowing.com
END:VEVENT
END:VCALENDAR